BEGIN:VCALENDAR
VERSION:2.0
PRODID:-//hewhs.com - ECPv6.15.20//NONSGML v1.0//EN
CALSCALE:GREGORIAN
METHOD:PUBLISH
X-ORIGINAL-URL:https://hewhs.com
X-WR-CALDESC:Events for hewhs.com
REFRESH-INTERVAL;VALUE=DURATION:PT1H
X-Robots-Tag:noindex
X-PUBLISHED-TTL:PT1H
BEGIN:VTIMEZONE
TZID:America/New_York
BEGIN:DAYLIGHT
TZOFFSETFROM:-0500
TZOFFSETTO:-0400
TZNAME:EDT
DTSTART:20250309T070000
END:DAYLIGHT
BEGIN:STANDARD
TZOFFSETFROM:-0400
TZOFFSETTO:-0500
TZNAME:EST
DTSTART:20251102T060000
END:STANDARD
BEGIN:DAYLIGHT
TZOFFSETFROM:-0500
TZOFFSETTO:-0400
TZNAME:EDT
DTSTART:20260308T070000
END:DAYLIGHT
BEGIN:STANDARD
TZOFFSETFROM:-0400
TZOFFSETTO:-0500
TZNAME:EST
DTSTART:20261101T060000
END:STANDARD
BEGIN:DAYLIGHT
TZOFFSETFROM:-0500
TZOFFSETTO:-0400
TZNAME:EDT
DTSTART:20270314T070000
END:DAYLIGHT
BEGIN:STANDARD
TZOFFSETFROM:-0400
TZOFFSETTO:-0500
TZNAME:EST
DTSTART:20271107T060000
END:STANDARD
END:VTIMEZONE
BEGIN:VEVENT
DTSTART;TZID=America/New_York:20260425T190000
DTEND;TZID=America/New_York:20260425T200000
DTSTAMP:20260422T202644
CREATED:20260124T151700Z
LAST-MODIFIED:20260314T131323Z
UID:2699-1777143600-1777147200@hewhs.com
SUMMARY:History Presentation: NJ and the Signing of the Declaration of Independence
DESCRIPTION:Join Earl Groendyke as he presents the five New Jerseyites who signed the Declaration of Independence\, along with some of the events that led up to the signing.\nEarl makes his presentation in full Sons of the Revolution color guard uniform\, complete with musket. \nThis is a free event\, but email us at hightsewhs@gmail.com to reserve your seats. Only 40 seats are available!
URL:https://hewhs.com/event/history-presentation-finding-ben/
LOCATION:Hightstown-East Windsor Historical Society\, 164 North Main Street\, Hightstown\, NJ\, 08520\, United States
CATEGORIES:Presentations
ATTACH;FMTTYPE=image/jpeg:https://hewhs.com/wp-content/uploads/2026/01/FREIGHT-01-web.jpg
END:VEVENT
END:VCALENDAR