BEGIN:VCALENDAR
VERSION:2.0
PRODID:-//hewhs.com - ECPv6.15.20//NONSGML v1.0//EN
CALSCALE:GREGORIAN
METHOD:PUBLISH
X-ORIGINAL-URL:https://hewhs.com
X-WR-CALDESC:Events for hewhs.com
REFRESH-INTERVAL;VALUE=DURATION:PT1H
X-Robots-Tag:noindex
X-PUBLISHED-TTL:PT1H
BEGIN:VTIMEZONE
TZID:America/New_York
BEGIN:DAYLIGHT
TZOFFSETFROM:-0500
TZOFFSETTO:-0400
TZNAME:EDT
DTSTART:20250309T070000
END:DAYLIGHT
BEGIN:STANDARD
TZOFFSETFROM:-0400
TZOFFSETTO:-0500
TZNAME:EST
DTSTART:20251102T060000
END:STANDARD
BEGIN:DAYLIGHT
TZOFFSETFROM:-0500
TZOFFSETTO:-0400
TZNAME:EDT
DTSTART:20260308T070000
END:DAYLIGHT
BEGIN:STANDARD
TZOFFSETFROM:-0400
TZOFFSETTO:-0500
TZNAME:EST
DTSTART:20261101T060000
END:STANDARD
BEGIN:DAYLIGHT
TZOFFSETFROM:-0500
TZOFFSETTO:-0400
TZNAME:EDT
DTSTART:20270314T070000
END:DAYLIGHT
BEGIN:STANDARD
TZOFFSETFROM:-0400
TZOFFSETTO:-0500
TZNAME:EST
DTSTART:20271107T060000
END:STANDARD
END:VTIMEZONE
BEGIN:VEVENT
DTSTART;TZID=America/New_York:20260201T130000
DTEND;TZID=America/New_York:20260201T150000
DTSTAMP:20260423T000916
CREATED:20241220T212157Z
LAST-MODIFIED:20251223T142051Z
UID:2468-1769950800-1769958000@hewhs.com
SUMMARY:Open House - February 2026
DESCRIPTION:The Ely House is open the first Sunday of each month. Come take a walk into the past to see how people lived 100 years ago. Visit our Freight Station museum to discover artifacts from days gone by.
URL:https://hewhs.com/event/open-house-february-2025/
LOCATION:Hightstown-East Windsor Historical Society\, 164 North Main Street\, Hightstown\, NJ\, 08520\, United States
CATEGORIES:Open House
ATTACH;FMTTYPE=image/jpeg:https://hewhs.com/wp-content/uploads/2023/06/LIVING-ROOM-web.jpg
ORGANIZER;CN="Hightstown-East Windsor Historical Society":MAILTO:hightsewhs@gmail.com
END:VEVENT
BEGIN:VEVENT
DTSTART;TZID=America/New_York:20260203T190000
DTEND;TZID=America/New_York:20260203T203000
DTSTAMP:20260423T000916
CREATED:20240115T171454Z
LAST-MODIFIED:20260124T154023Z
UID:2109-1770145200-1770150600@hewhs.com
SUMMARY:Monthly Meeting - February 2026
DESCRIPTION:Have an idea you want to share? \nInterested in volunteering? Looking to learn more about our local history? Come on down! All are welcome!
URL:https://hewhs.com/event/monthly-meeting-february-2024/
LOCATION:Hightstown-East Windsor Historical Society\, 164 North Main Street\, Hightstown\, NJ\, 08520\, United States
CATEGORIES:Monthly Meetings
ATTACH;FMTTYPE=image/jpeg:https://hewhs.com/wp-content/uploads/2023/06/ELY-HOUSE-FRONT.jpg
ORGANIZER;CN="Hightstown-East Windsor Historical Society":MAILTO:hightsewhs@gmail.com
END:VEVENT
BEGIN:VEVENT
DTSTART;TZID=America/New_York:20260214T130000
DTEND;TZID=America/New_York:20260214T150000
DTSTAMP:20260423T000916
CREATED:20260123T210938Z
LAST-MODIFIED:20260123T211504Z
UID:2691-1771074000-1771081200@hewhs.com
SUMMARY:Drew / Kreps Video Auditions
DESCRIPTION:We’re gearing up to produce our annual short film.  This year it’s about Perry L. Drew and Melvin H. Kreps.   \n\nAge: 9-16 years old\nDate: Saturday\, February 14\nTime: 1 pm\nWhere: Historical Society headquarters\, 164 North Main Street\, Hightstown\, NJ 08520.\nMore info and the audition script can be found here: here Prepare a song if you’re interested in a singing role.
URL:https://hewhs.com/event/drew-kreps-video-auditions/
LOCATION:Hightstown-East Windsor Historical Society\, 164 North Main Street\, Hightstown\, NJ\, 08520\, United States
ATTACH;FMTTYPE=image/png:https://hewhs.com/wp-content/uploads/2025/12/Audtion-Event-Banner-website-1.png
END:VEVENT
END:VCALENDAR