BEGIN:VCALENDAR
VERSION:2.0
PRODID:-//hewhs.com - ECPv6.15.20//NONSGML v1.0//EN
CALSCALE:GREGORIAN
METHOD:PUBLISH
X-WR-CALNAME:hewhs.com
X-ORIGINAL-URL:https://hewhs.com
X-WR-CALDESC:Events for hewhs.com
REFRESH-INTERVAL;VALUE=DURATION:PT1H
X-Robots-Tag:noindex
X-PUBLISHED-TTL:PT1H
BEGIN:VTIMEZONE
TZID:America/New_York
BEGIN:DAYLIGHT
TZOFFSETFROM:-0500
TZOFFSETTO:-0400
TZNAME:EDT
DTSTART:20250309T070000
END:DAYLIGHT
BEGIN:STANDARD
TZOFFSETFROM:-0400
TZOFFSETTO:-0500
TZNAME:EST
DTSTART:20251102T060000
END:STANDARD
BEGIN:DAYLIGHT
TZOFFSETFROM:-0500
TZOFFSETTO:-0400
TZNAME:EDT
DTSTART:20260308T070000
END:DAYLIGHT
BEGIN:STANDARD
TZOFFSETFROM:-0400
TZOFFSETTO:-0500
TZNAME:EST
DTSTART:20261101T060000
END:STANDARD
BEGIN:DAYLIGHT
TZOFFSETFROM:-0500
TZOFFSETTO:-0400
TZNAME:EDT
DTSTART:20270314T070000
END:DAYLIGHT
BEGIN:STANDARD
TZOFFSETFROM:-0400
TZOFFSETTO:-0500
TZNAME:EST
DTSTART:20271107T060000
END:STANDARD
END:VTIMEZONE
BEGIN:VTIMEZONE
TZID:UTC
BEGIN:STANDARD
TZOFFSETFROM:+0000
TZOFFSETTO:+0000
TZNAME:UTC
DTSTART:20250101T000000
END:STANDARD
END:VTIMEZONE
BEGIN:VEVENT
DTSTART;TZID=America/New_York:20260104T130000
DTEND;TZID=America/New_York:20260104T150000
DTSTAMP:20260423T014838
CREATED:20240808T200844Z
LAST-MODIFIED:20251223T141950Z
UID:2294-1767531600-1767538800@hewhs.com
SUMMARY:Open House - January 2026
DESCRIPTION:The Ely House is open the first Sunday of each month. Come take a walk into the past to see how people lived 100 years ago. Visit our Freight Station museum to discover artifacts from days gone by.
URL:https://hewhs.com/event/open-house-december-2024/
LOCATION:Hightstown-East Windsor Historical Society\, 164 North Main Street\, Hightstown\, NJ\, 08520\, United States
CATEGORIES:Open House
ATTACH;FMTTYPE=image/jpeg:https://hewhs.com/wp-content/uploads/2023/06/LIVING-ROOM-web.jpg
ORGANIZER;CN="Hightstown-East Windsor Historical Society":MAILTO:hightsewhs@gmail.com
END:VEVENT
BEGIN:VEVENT
DTSTART;TZID=UTC:20260106T190000
DTEND;TZID=UTC:20260106T200000
DTSTAMP:20260423T014838
CREATED:20230613T234708Z
LAST-MODIFIED:20251223T142547Z
UID:1881-1767726000-1767729600@hewhs.com
SUMMARY:Monthly Meeting - January 2026
DESCRIPTION:Have an idea you want to share? \nInterested in volunteering? Looking to learn more about our local history? Come on down! All are welcome!
URL:https://hewhs.com/event/monthly-meeting-december-2023/
LOCATION:Hightstown-East Windsor Historical Society\, 164 North Main Street\, Hightstown\, NJ\, 08520\, United States
CATEGORIES:Monthly Meetings
ATTACH;FMTTYPE=image/jpeg:https://hewhs.com/wp-content/uploads/2023/06/ELY-HOUSE-FRONT.jpg
ORGANIZER;CN="Hightstown-East Windsor Historical Society":MAILTO:hightsewhs@gmail.com
END:VEVENT
END:VCALENDAR