BEGIN:VCALENDAR
VERSION:2.0
PRODID:-//hewhs.com - ECPv6.15.20//NONSGML v1.0//EN
CALSCALE:GREGORIAN
METHOD:PUBLISH
X-WR-CALNAME:hewhs.com
X-ORIGINAL-URL:https://hewhs.com
X-WR-CALDESC:Events for hewhs.com
REFRESH-INTERVAL;VALUE=DURATION:PT1H
X-Robots-Tag:noindex
X-PUBLISHED-TTL:PT1H
BEGIN:VTIMEZONE
TZID:UTC
BEGIN:STANDARD
TZOFFSETFROM:+0000
TZOFFSETTO:+0000
TZNAME:UTC
DTSTART:20200101T000000
END:STANDARD
END:VTIMEZONE
BEGIN:VEVENT
DTSTART;TZID=UTC:20210715T173000
DTEND;TZID=UTC:20210715T190000
DTSTAMP:20260423T191709
CREATED:20210628T230949Z
LAST-MODIFIED:20210628T231226Z
UID:1406-1626370200-1626375600@hewhs.com
SUMMARY:July Walking Tour
DESCRIPTION:Together with the Hightstown – East Windsor Historical Society\, Downtown Hightstown is sponsoring a Historic Walking Tour on Thursday\, July 15. Learn about Hightstown’s rich history while strolling through the downtown.  \nTour begins at 5:30 pm at the Historical Society 164 North Main Street\, Hightstown. Tickets are $18 each. The tour runs approximately 90 minutes.  \nParking is FREE and is available adjacent to the Historical Society at 164 North Main Street or in the municipal parking lot by the lake. \nTickets available at https://hewhistoricalsociety.eventbrite.com
URL:https://hewhs.com/event/july-walking-tour/
LOCATION:Hightstown-East Windsor Historical Society\, 164 North Main Street\, Hightstown\, NJ\, 08520\, United States
ATTACH;FMTTYPE=image/png:https://hewhs.com/wp-content/uploads/2021/06/Walking-Tours-July-2021.png
ORGANIZER;CN="Hightstown-East Windsor Historical Society":MAILTO:hightsewhs@gmail.com
END:VEVENT
END:VCALENDAR