BEGIN:VCALENDAR
VERSION:2.0
PRODID:-//hewhs.com - ECPv6.15.20//NONSGML v1.0//EN
CALSCALE:GREGORIAN
METHOD:PUBLISH
X-WR-CALNAME:hewhs.com
X-ORIGINAL-URL:https://hewhs.com
X-WR-CALDESC:Events for hewhs.com
REFRESH-INTERVAL;VALUE=DURATION:PT1H
X-Robots-Tag:noindex
X-PUBLISHED-TTL:PT1H
BEGIN:VTIMEZONE
TZID:UTC
BEGIN:STANDARD
TZOFFSETFROM:+0000
TZOFFSETTO:+0000
TZNAME:UTC
DTSTART:20200101T000000
END:STANDARD
END:VTIMEZONE
BEGIN:VEVENT
DTSTART;TZID=UTC:20230912T190000
DTEND;TZID=UTC:20230912T200000
DTSTAMP:20260423T163254
CREATED:20230613T233833Z
LAST-MODIFIED:20230808T002452Z
UID:1875-1694545200-1694548800@hewhs.com
SUMMARY:Monthly Meeting - September 2023
DESCRIPTION:Have an idea you want to share? \nInterested in volunteering? Looking to learn more about our local history? Come on down! All are welcome!
URL:https://hewhs.com/event/monthly-meeting-september-2023/
LOCATION:Hightstown-East Windsor Historical Society\, 164 North Main Street\, Hightstown\, NJ\, 08520\, United States
CATEGORIES:Monthly Meetings
ATTACH;FMTTYPE=image/jpeg:https://hewhs.com/wp-content/uploads/2023/06/ELY-HOUSE-FRONT.jpg
ORGANIZER;CN="Hightstown-East Windsor Historical Society":MAILTO:hightsewhs@gmail.com
END:VEVENT
BEGIN:VEVENT
DTSTART;TZID=UTC:20230823T183000
DTEND;TZID=UTC:20230823T200000
DTSTAMP:20260423T163254
CREATED:20230623T233553Z
LAST-MODIFIED:20230623T233914Z
UID:1927-1692815400-1692820800@hewhs.com
SUMMARY:Hightstown Historic Walking Tour
DESCRIPTION:The Walking Tour Is Back!\nTogether with the Hightstown – East Windsor Historical Society\, Downtown Hightstown is sponsoring a Historic Walking Tour on Wednesday\, August 23. Learn about Hightstown’s rich history while strolling through the downtown. \nTour begins at 6:30 pm at the Historical Society 164 North Main Street\, Hightstown. Tickets are $18 each. The tour runs approximately 90 minutes.\nParking is FREE and is available adjacent to the Historical Society at 164 North Main Street or in the municipal parking lot by the lake. \nTickets are available on our Eventbrite page
URL:https://hewhs.com/event/hightstown-historic-walking-tour/
LOCATION:Hightstown-East Windsor Historical Society\, 164 North Main Street\, Hightstown\, NJ\, 08520\, United States
ATTACH;FMTTYPE=image/jpeg:https://hewhs.com/wp-content/uploads/2023/06/August-23.jpeg
ORGANIZER;CN="Hightstown-East Windsor Historical Society":MAILTO:hightsewhs@gmail.com
END:VEVENT
BEGIN:VEVENT
DTSTART;TZID=UTC:20230711T190000
DTEND;TZID=UTC:20230711T200000
DTSTAMP:20260423T163254
CREATED:20230613T225405Z
LAST-MODIFIED:20230613T233711Z
UID:1867-1689102000-1689105600@hewhs.com
SUMMARY:Monthly Meeting - July 2023
DESCRIPTION:Have an idea you want to share? \nInterested in volunteering? Looking to learn more about our local history? Come on down!  All are welcome! \n﻿
URL:https://hewhs.com/event/monthly-meeting/
LOCATION:Hightstown-East Windsor Historical Society\, 164 North Main Street\, Hightstown\, NJ\, 08520\, United States
CATEGORIES:Monthly Meetings
ATTACH;FMTTYPE=image/jpeg:https://hewhs.com/wp-content/uploads/2023/06/ELY-HOUSE-FRONT.jpg
ORGANIZER;CN="Hightstown-East Windsor Historical Society":MAILTO:hightsewhs@gmail.com
END:VEVENT
BEGIN:VEVENT
DTSTART;TZID=UTC:20230520T140000
DTEND;TZID=UTC:20230520T150000
DTSTAMP:20260423T163254
CREATED:20230518T235234Z
LAST-MODIFIED:20230518T235402Z
UID:1671-1684591200-1684594800@hewhs.com
SUMMARY:Board of Education: Grace Norton Rogers - 2 pm show
DESCRIPTION:Join us for our 12 pm screening of our short film about Grace Norton Rogers! \nWhen: Saturday\, May 20 \nSeating starts at 11:30 am. Show starts at 12:00 pm. \nWhere: Hightstown-East Windsor Historical Society\, 164 North Main Street\, Hightstown\, NJ 08520 \nTickets are $12 online (order at the link below) or at the door. \nPLUS! THE HOUSE WILL BE OPEN TO TOUR!
URL:https://hewhs.com/event/board-of-education-grace-norton-rogers/
LOCATION:Hightstown-East Windsor Historical Society\, 164 North Main Street\, Hightstown\, NJ\, 08520\, United States
ORGANIZER;CN="Hightstown-East Windsor Historical Society":MAILTO:hightsewhs@gmail.com
END:VEVENT
BEGIN:VEVENT
DTSTART;TZID=UTC:20230520T120000
DTEND;TZID=UTC:20230520T130000
DTSTAMP:20260423T163254
CREATED:20230518T234955Z
LAST-MODIFIED:20230518T235427Z
UID:1667-1684584000-1684587600@hewhs.com
SUMMARY:Board of Education: Grace Norton Rogers - 12 pm Show
DESCRIPTION:Join us for our 12 pm screening of our short film about Grace Norton Rogers! \nWhen: Saturday\, May 20 \nSeating starts at 11:30 am. Show starts at 12:00 pm. \nWhere: Hightstown-East Windsor Historical Society\, 164 North Main Street\, Hightstown\, NJ 08520 \nTickets are $12 online (order at the link below) or at the door. \nPLUS! THE HOUSE WILL BE OPEN TO TOUR!
URL:https://hewhs.com/event/board-of-education-grace-norton-rogers-12-pm-show/
LOCATION:Hightstown-East Windsor Historical Society\, 164 North Main Street\, Hightstown\, NJ\, 08520\, United States
ORGANIZER;CN="Hightstown-East Windsor Historical Society":MAILTO:hightsewhs@gmail.com
END:VEVENT
BEGIN:VEVENT
DTSTART;TZID=UTC:20230401T120000
DTEND;TZID=UTC:20230401T140000
DTSTAMP:20260423T163254
CREATED:20230207T020923Z
LAST-MODIFIED:20230207T021124Z
UID:1605-1680350400-1680357600@hewhs.com
SUMMARY:Children's Theater Auditions
DESCRIPTION:We produce an annual short film about Hightstown-East Windsor History starring kids from the area. The program is opened to kids from third grade to high school seniors. This program teaches film performance and film production. \nClick here for more information.
URL:https://hewhs.com/event/childrens-theater-auditions/
LOCATION:Hightstown-East Windsor Historical Society\, 164 North Main Street\, Hightstown\, NJ\, 08520\, United States
ORGANIZER;CN="Hightstown-East Windsor Historical Society":MAILTO:hightsewhs@gmail.com
END:VEVENT
BEGIN:VEVENT
DTSTART;TZID=UTC:20221117T173000
DTEND;TZID=UTC:20221117T180000
DTSTAMP:20260423T163254
CREATED:20221022T162235Z
LAST-MODIFIED:20221022T162729Z
UID:1562-1668706200-1668708000@hewhs.com
SUMMARY:Pascucci Antique Show
DESCRIPTION:Gene Pascucci is coming to the Ely House to appraise your attic and basement finds! \nGene will appraise up to 3 items. \nPricing \n\nFirst Item: $20\nSecond Item: $15\nThird Item: $10
URL:https://hewhs.com/event/pascucci-antique-show/
LOCATION:Hightstown-East Windsor Historical Society\, 164 North Main Street\, Hightstown\, NJ\, 08520\, United States
ATTACH;FMTTYPE=image/jpeg:https://hewhs.com/wp-content/uploads/2022/10/antiques-email.jpg
ORGANIZER;CN="Empire Antiques and Auctions":MAILTO:aaempireantiques@gmail.com
END:VEVENT
BEGIN:VEVENT
DTSTART;TZID=UTC:20210923T173000
DTEND;TZID=UTC:20210923T190000
DTSTAMP:20260423T163254
CREATED:20210628T232728Z
LAST-MODIFIED:20210628T232842Z
UID:1415-1632418200-1632423600@hewhs.com
SUMMARY:September Walking Tour
DESCRIPTION:Together with the Hightstown – East Windsor Historical Society\, Downtown Hightstown is sponsoring a Historic Walking Tour on Thursday\, September 23. Learn about Hightstown’s rich history while strolling through the downtown. \nTour begins at 5:30 pm at the Historical Society 164 North Main Street\, Hightstown. Tickets are $18 each. The tour runs for approximately 90 minutes. \nParking is FREE and is available adjacent to the Historical Society at 164 North Main Street or in the municipal parking lot by the lake. \nTickets available at https://hewhistoricalsociety.eventbrite.com
URL:https://hewhs.com/event/september-walking-tour/
LOCATION:Hightstown-East Windsor Historical Society\, 164 North Main Street\, Hightstown\, NJ\, 08520\, United States
ATTACH;FMTTYPE=image/png:https://hewhs.com/wp-content/uploads/2021/06/WalkingTours-September-2021.png
ORGANIZER;CN="Hightstown-East Windsor Historical Society":MAILTO:hightsewhs@gmail.com
END:VEVENT
BEGIN:VEVENT
DTSTART;TZID=UTC:20210715T190000
DTEND;TZID=UTC:20210715T213000
DTSTAMP:20260423T163254
CREATED:20210628T233814Z
LAST-MODIFIED:20210628T233814Z
UID:1418-1626375600-1626384600@hewhs.com
SUMMARY:Four Boys Ice Cream Fundraiser
DESCRIPTION:Celebrate the Summer with ice cream! Raise money for a good cause! It’s a win-win!\nAfter our walking tour stop in for Four Boys Ice Cream! You don’t even have to go on the tour (but you should!) to enjoy some ice cream.\nTell the Historical Society sent ya!
URL:https://hewhs.com/event/four-boys-ice-cream-fundraiser/
LOCATION:Four Boys Ice Cream\, 122 South Main Street\, Hightstown\, NJ\, 08520\, United States
CATEGORIES:Fundraiser
ATTACH;FMTTYPE=image/jpeg:https://hewhs.com/wp-content/uploads/2021/06/FourBoys-Event.jpg
ORGANIZER;CN="Hightstown-East Windsor Historical Society":MAILTO:hightsewhs@gmail.com
END:VEVENT
BEGIN:VEVENT
DTSTART;TZID=UTC:20210715T173000
DTEND;TZID=UTC:20210715T190000
DTSTAMP:20260423T163254
CREATED:20210628T230949Z
LAST-MODIFIED:20210628T231226Z
UID:1406-1626370200-1626375600@hewhs.com
SUMMARY:July Walking Tour
DESCRIPTION:Together with the Hightstown – East Windsor Historical Society\, Downtown Hightstown is sponsoring a Historic Walking Tour on Thursday\, July 15. Learn about Hightstown’s rich history while strolling through the downtown.  \nTour begins at 5:30 pm at the Historical Society 164 North Main Street\, Hightstown. Tickets are $18 each. The tour runs approximately 90 minutes.  \nParking is FREE and is available adjacent to the Historical Society at 164 North Main Street or in the municipal parking lot by the lake. \nTickets available at https://hewhistoricalsociety.eventbrite.com
URL:https://hewhs.com/event/july-walking-tour/
LOCATION:Hightstown-East Windsor Historical Society\, 164 North Main Street\, Hightstown\, NJ\, 08520\, United States
ATTACH;FMTTYPE=image/png:https://hewhs.com/wp-content/uploads/2021/06/Walking-Tours-July-2021.png
ORGANIZER;CN="Hightstown-East Windsor Historical Society":MAILTO:hightsewhs@gmail.com
END:VEVENT
END:VCALENDAR