BEGIN:VCALENDAR
VERSION:2.0
PRODID:-//hewhs.com - ECPv6.15.20//NONSGML v1.0//EN
CALSCALE:GREGORIAN
METHOD:PUBLISH
X-ORIGINAL-URL:https://hewhs.com
X-WR-CALDESC:Events for hewhs.com
REFRESH-INTERVAL;VALUE=DURATION:PT1H
X-Robots-Tag:noindex
X-PUBLISHED-TTL:PT1H
BEGIN:VTIMEZONE
TZID:America/New_York
BEGIN:DAYLIGHT
TZOFFSETFROM:-0500
TZOFFSETTO:-0400
TZNAME:EDT
DTSTART:20240310T070000
END:DAYLIGHT
BEGIN:STANDARD
TZOFFSETFROM:-0400
TZOFFSETTO:-0500
TZNAME:EST
DTSTART:20241103T060000
END:STANDARD
BEGIN:DAYLIGHT
TZOFFSETFROM:-0500
TZOFFSETTO:-0400
TZNAME:EDT
DTSTART:20250309T070000
END:DAYLIGHT
BEGIN:STANDARD
TZOFFSETFROM:-0400
TZOFFSETTO:-0500
TZNAME:EST
DTSTART:20251102T060000
END:STANDARD
BEGIN:DAYLIGHT
TZOFFSETFROM:-0500
TZOFFSETTO:-0400
TZNAME:EDT
DTSTART:20260308T070000
END:DAYLIGHT
BEGIN:STANDARD
TZOFFSETFROM:-0400
TZOFFSETTO:-0500
TZNAME:EST
DTSTART:20261101T060000
END:STANDARD
BEGIN:DAYLIGHT
TZOFFSETFROM:-0500
TZOFFSETTO:-0400
TZNAME:EDT
DTSTART:20270314T070000
END:DAYLIGHT
BEGIN:STANDARD
TZOFFSETFROM:-0400
TZOFFSETTO:-0500
TZNAME:EST
DTSTART:20271107T060000
END:STANDARD
END:VTIMEZONE
BEGIN:VEVENT
DTSTART;TZID=America/New_York:20260412T130000
DTEND;TZID=America/New_York:20260412T150000
DTSTAMP:20260422T213615
CREATED:20240115T172621Z
LAST-MODIFIED:20260409T155813Z
UID:2123-1775998800-1776006000@hewhs.com
SUMMARY:Open House - April 2026
DESCRIPTION:The Ely House is open the first Sunday of each month. Come take a walk into the past to see how people lived 100 years ago. Visit our Freight Station museum to discover artifacts from days gone by.
URL:https://hewhs.com/event/open-house-april-2024/
LOCATION:Hightstown-East Windsor Historical Society\, 164 North Main Street\, Hightstown\, NJ\, 08520\, United States
CATEGORIES:Open House
ATTACH;FMTTYPE=image/jpeg:https://hewhs.com/wp-content/uploads/2023/06/LIVING-ROOM-web.jpg
ORGANIZER;CN="Hightstown-East Windsor Historical Society":MAILTO:hightsewhs@gmail.com
END:VEVENT
BEGIN:VEVENT
DTSTART;TZID=America/New_York:20260301T130000
DTEND;TZID=America/New_York:20260301T150000
DTSTAMP:20260422T213615
CREATED:20240115T172517Z
LAST-MODIFIED:20251223T142145Z
UID:2121-1772370000-1772377200@hewhs.com
SUMMARY:Open House - March 2026
DESCRIPTION:The Ely House is open the first Sunday of each month. Come take a walk into the past to see how people lived 100 years ago. Visit our Freight Station museum to discover artifacts from days gone by.
URL:https://hewhs.com/event/open-house-march-2024/
LOCATION:Hightstown-East Windsor Historical Society\, 164 North Main Street\, Hightstown\, NJ\, 08520\, United States
CATEGORIES:Open House
ATTACH;FMTTYPE=image/jpeg:https://hewhs.com/wp-content/uploads/2023/06/LIVING-ROOM-web.jpg
ORGANIZER;CN="Hightstown-East Windsor Historical Society":MAILTO:hightsewhs@gmail.com
END:VEVENT
BEGIN:VEVENT
DTSTART;TZID=America/New_York:20260201T130000
DTEND;TZID=America/New_York:20260201T150000
DTSTAMP:20260422T213615
CREATED:20241220T212157Z
LAST-MODIFIED:20251223T142051Z
UID:2468-1769950800-1769958000@hewhs.com
SUMMARY:Open House - February 2026
DESCRIPTION:The Ely House is open the first Sunday of each month. Come take a walk into the past to see how people lived 100 years ago. Visit our Freight Station museum to discover artifacts from days gone by.
URL:https://hewhs.com/event/open-house-february-2025/
LOCATION:Hightstown-East Windsor Historical Society\, 164 North Main Street\, Hightstown\, NJ\, 08520\, United States
CATEGORIES:Open House
ATTACH;FMTTYPE=image/jpeg:https://hewhs.com/wp-content/uploads/2023/06/LIVING-ROOM-web.jpg
ORGANIZER;CN="Hightstown-East Windsor Historical Society":MAILTO:hightsewhs@gmail.com
END:VEVENT
BEGIN:VEVENT
DTSTART;TZID=America/New_York:20260104T130000
DTEND;TZID=America/New_York:20260104T150000
DTSTAMP:20260422T213615
CREATED:20240808T200844Z
LAST-MODIFIED:20251223T141950Z
UID:2294-1767531600-1767538800@hewhs.com
SUMMARY:Open House - January 2026
DESCRIPTION:The Ely House is open the first Sunday of each month. Come take a walk into the past to see how people lived 100 years ago. Visit our Freight Station museum to discover artifacts from days gone by.
URL:https://hewhs.com/event/open-house-december-2024/
LOCATION:Hightstown-East Windsor Historical Society\, 164 North Main Street\, Hightstown\, NJ\, 08520\, United States
CATEGORIES:Open House
ATTACH;FMTTYPE=image/jpeg:https://hewhs.com/wp-content/uploads/2023/06/LIVING-ROOM-web.jpg
ORGANIZER;CN="Hightstown-East Windsor Historical Society":MAILTO:hightsewhs@gmail.com
END:VEVENT
BEGIN:VEVENT
DTSTART;TZID=America/New_York:20251207T130000
DTEND;TZID=America/New_York:20251207T150000
DTSTAMP:20260422T213615
CREATED:20240115T172257Z
LAST-MODIFIED:20241223T164731Z
UID:2119-1765112400-1765119600@hewhs.com
SUMMARY:Open House - December 2025
DESCRIPTION:The Ely House is open the first Sunday of each month. Come take a walk into the past to see how people lived 100 years ago. Visit our Freight Station museum to discover artifacts from days gone by.
URL:https://hewhs.com/event/open-house-february-2024/
LOCATION:Hightstown-East Windsor Historical Society\, 164 North Main Street\, Hightstown\, NJ\, 08520\, United States
CATEGORIES:Open House
ATTACH;FMTTYPE=image/jpeg:https://hewhs.com/wp-content/uploads/2023/06/LIVING-ROOM-web.jpg
ORGANIZER;CN="Hightstown-East Windsor Historical Society":MAILTO:hightsewhs@gmail.com
END:VEVENT
BEGIN:VEVENT
DTSTART;TZID=America/New_York:20251102T130000
DTEND;TZID=America/New_York:20251102T150000
DTSTAMP:20260422T213615
CREATED:20240808T200752Z
LAST-MODIFIED:20241223T164612Z
UID:2292-1762088400-1762095600@hewhs.com
SUMMARY:Open House - November 2025
DESCRIPTION:The Ely House is open the first Sunday of each month. Come take a walk into the past to see how people lived 100 years ago. Visit our Freight Station museum to discover artifacts from days gone by.
URL:https://hewhs.com/event/open-house-november-2024/
LOCATION:Hightstown-East Windsor Historical Society\, 164 North Main Street\, Hightstown\, NJ\, 08520\, United States
CATEGORIES:Open House
ATTACH;FMTTYPE=image/jpeg:https://hewhs.com/wp-content/uploads/2023/06/LIVING-ROOM-web.jpg
ORGANIZER;CN="Hightstown-East Windsor Historical Society":MAILTO:hightsewhs@gmail.com
END:VEVENT
BEGIN:VEVENT
DTSTART;TZID=America/New_York:20250907T130000
DTEND;TZID=America/New_York:20250907T150000
DTSTAMP:20260422T213615
CREATED:20240808T200625Z
LAST-MODIFIED:20241223T164352Z
UID:2290-1757250000-1757257200@hewhs.com
SUMMARY:Open House - September 2025
DESCRIPTION:The Ely House is open the first Sunday of each month. Come take a walk into the past to see how people lived 100 years ago. Visit our Freight Station museum to discover artifacts from days gone by.
URL:https://hewhs.com/event/open-house-september-2024/
LOCATION:Hightstown-East Windsor Historical Society\, 164 North Main Street\, Hightstown\, NJ\, 08520\, United States
CATEGORIES:Open House
ATTACH;FMTTYPE=image/jpeg:https://hewhs.com/wp-content/uploads/2023/06/LIVING-ROOM-web.jpg
ORGANIZER;CN="Hightstown-East Windsor Historical Society":MAILTO:hightsewhs@gmail.com
END:VEVENT
END:VCALENDAR