BEGIN:VCALENDAR
VERSION:2.0
PRODID:-//hewhs.com - ECPv6.15.20//NONSGML v1.0//EN
CALSCALE:GREGORIAN
METHOD:PUBLISH
X-WR-CALNAME:hewhs.com
X-ORIGINAL-URL:https://hewhs.com
X-WR-CALDESC:Events for hewhs.com
REFRESH-INTERVAL;VALUE=DURATION:PT1H
X-Robots-Tag:noindex
X-PUBLISHED-TTL:PT1H
BEGIN:VTIMEZONE
TZID:America/New_York
BEGIN:DAYLIGHT
TZOFFSETFROM:-0500
TZOFFSETTO:-0400
TZNAME:EDT
DTSTART:20240310T070000
END:DAYLIGHT
BEGIN:STANDARD
TZOFFSETFROM:-0400
TZOFFSETTO:-0500
TZNAME:EST
DTSTART:20241103T060000
END:STANDARD
BEGIN:DAYLIGHT
TZOFFSETFROM:-0500
TZOFFSETTO:-0400
TZNAME:EDT
DTSTART:20250309T070000
END:DAYLIGHT
BEGIN:STANDARD
TZOFFSETFROM:-0400
TZOFFSETTO:-0500
TZNAME:EST
DTSTART:20251102T060000
END:STANDARD
BEGIN:DAYLIGHT
TZOFFSETFROM:-0500
TZOFFSETTO:-0400
TZNAME:EDT
DTSTART:20260308T070000
END:DAYLIGHT
BEGIN:STANDARD
TZOFFSETFROM:-0400
TZOFFSETTO:-0500
TZNAME:EST
DTSTART:20261101T060000
END:STANDARD
END:VTIMEZONE
BEGIN:VEVENT
DTSTART;TZID=America/New_York:20251004T100000
DTEND;TZID=America/New_York:20251004T160000
DTSTAMP:20260425T081258
CREATED:20240625T190040Z
LAST-MODIFIED:20250109T202333Z
UID:2276-1759572000-1759593600@hewhs.com
SUMMARY:Hightstown Family Fair
DESCRIPTION:October 4\, 2025\n10 am – 4 pm\nOn Bank Street in Hightstown\, NJ\nFor directions to the fair Click This Link.\nBank Street is next to the Historical Society\nwhich is at 164 North Main Street\, Hightstown\, NJ 08520.\n\n  \nArtisans & Crafters!\nFood Trucks & Food Vendors!\nMusic & Entertainment!\nKids Activities!\nFun for the whole family!\nPlus\, the Ely House will be open for tours!\n\n  \nFollow the fair on Facebook and Instagram
URL:https://hewhs.com/event/hightstown-family-fair/
LOCATION:Hightstown-East Windsor Historical Society\, 164 North Main Street\, Hightstown\, NJ\, 08520\, United States
CATEGORIES:Hightstown Family Fair
ATTACH;FMTTYPE=image/png:https://hewhs.com/wp-content/uploads/2024/06/Highstown-Family-Fair-Logo.png
ORGANIZER;CN="Hightstown-East Windsor Historical Society":MAILTO:hightsewhs@gmail.com
END:VEVENT
END:VCALENDAR