BEGIN:VCALENDAR
VERSION:2.0
PRODID:-//hewhs.com - ECPv6.15.20//NONSGML v1.0//EN
CALSCALE:GREGORIAN
METHOD:PUBLISH
X-ORIGINAL-URL:https://hewhs.com
X-WR-CALDESC:Events for hewhs.com
REFRESH-INTERVAL;VALUE=DURATION:PT1H
X-Robots-Tag:noindex
X-PUBLISHED-TTL:PT1H
BEGIN:VTIMEZONE
TZID:America/New_York
BEGIN:DAYLIGHT
TZOFFSETFROM:-0500
TZOFFSETTO:-0400
TZNAME:EDT
DTSTART:20240310T070000
END:DAYLIGHT
BEGIN:STANDARD
TZOFFSETFROM:-0400
TZOFFSETTO:-0500
TZNAME:EST
DTSTART:20241103T060000
END:STANDARD
BEGIN:DAYLIGHT
TZOFFSETFROM:-0500
TZOFFSETTO:-0400
TZNAME:EDT
DTSTART:20250309T070000
END:DAYLIGHT
BEGIN:STANDARD
TZOFFSETFROM:-0400
TZOFFSETTO:-0500
TZNAME:EST
DTSTART:20251102T060000
END:STANDARD
BEGIN:DAYLIGHT
TZOFFSETFROM:-0500
TZOFFSETTO:-0400
TZNAME:EDT
DTSTART:20260308T070000
END:DAYLIGHT
BEGIN:STANDARD
TZOFFSETFROM:-0400
TZOFFSETTO:-0500
TZNAME:EST
DTSTART:20261101T060000
END:STANDARD
END:VTIMEZONE
BEGIN:VEVENT
DTSTART;TZID=America/New_York:20251104T190000
DTEND;TZID=America/New_York:20251104T203000
DTSTAMP:20260423T070850
CREATED:20240808T203641Z
LAST-MODIFIED:20241224T140334Z
UID:2305-1762282800-1762288200@hewhs.com
SUMMARY:Monthly Meeting - November 2025
DESCRIPTION:Have an idea you want to share? Interested in volunteering? Looking to learn more about our local history? Come on down! All are welcome!
URL:https://hewhs.com/event/monthly-meeting-november-2024/
LOCATION:Hightstown-East Windsor Historical Society\, 164 North Main Street\, Hightstown\, NJ\, 08520\, United States
CATEGORIES:Monthly Meetings
ATTACH;FMTTYPE=image/jpeg:https://hewhs.com/wp-content/uploads/2023/06/ELY-HOUSE-FRONT.jpg
ORGANIZER;CN="Hightstown-East Windsor Historical Society":MAILTO:hightsewhs@gmail.com
END:VEVENT
END:VCALENDAR